BEGIN:VCALENDAR
VERSION:2.0
PRODID:-//TAK Hub - ECPv6.15.17.1//NONSGML v1.0//EN
CALSCALE:GREGORIAN
METHOD:PUBLISH
X-WR-CALNAME:TAK Hub
X-ORIGINAL-URL:https://takhub.de
X-WR-CALDESC:Veranstaltungen für TAK Hub
REFRESH-INTERVAL;VALUE=DURATION:PT1H
X-Robots-Tag:noindex
X-PUBLISHED-TTL:PT1H
BEGIN:VTIMEZONE
TZID:UTC
BEGIN:STANDARD
TZOFFSETFROM:+0000
TZOFFSETTO:+0000
TZNAME:UTC
DTSTART:20250101T000000
END:STANDARD
END:VTIMEZONE
BEGIN:VEVENT
DTSTART;VALUE=DATE:20260223
DTEND;VALUE=DATE:20260226
DTSTAMP:20260416T011010
CREATED:20251023T205220Z
LAST-MODIFIED:20251023T205437Z
UID:3909-1771804800-1772063999@takhub.de
SUMMARY:Enforce Tac 2026
DESCRIPTION:Besuche uns live an unserem Messestand in Halle 8!
URL:https://takhub.de/event/enforce-tac-2026/
LOCATION:Nürnberg\, Messezentrum 1\, Nürnberg\, Bayern\, 90471\, Germany
CATEGORIES:Messe
ATTACH;FMTTYPE=image/jpeg:https://takhub.de/wp-content/uploads/enforce-tac-2026-some-de-wir-sind-dabei-1200x627px.jpg
END:VEVENT
END:VCALENDAR